BEGIN:VCALENDAR
VERSION:2.0
METHOD:PUBLISH
PRODID:-//Causal Sarl//LionsBase Calendar 5.0.x-dev//DE
TZID:Europe/Zurich
BEGIN:VEVENT
UID:31633_20260416@mittelkaernten-anima-carinthiae.lions.at
DTSTAMP:20260420T090031Z
DTSTART:20260416T163000Z
DTEND:20260416T180000Z
ORGANIZER:LC Mittelkärnten Anima Carinthiae
SUMMARY:[ABGESAGT] Generalversammlung WIRD VERTAGT! (vorauss
 ichtlich auf den 7.5.)
DESCRIPTION:
END:VEVENT
END:VCALENDAR
